BEGIN:VCALENDAR
VERSION:2.0
PRODID:blaustein-gruene.de
METHOD:PUBLISH
BEGIN:VTIMEZONE
TZID:Europe/Berlin
X-LIC-LOCATION:Europe/Berlin
BEGIN:DAYLIGHT
TZOFFSETFROM:+0100
TZOFFSETTO:+0200
TZNAME:CEST
DTSTART:19700329T020000
RRULE:FREQ=YEARLY;INTERVAL=1;BYDAY=-1SU;BYMONTH=3
END:DAYLIGHT
BEGIN:STANDARD
TZOFFSETFROM:+0200
TZOFFSETTO:+0100
TZNAME:CET
DTSTART:19701025T030000
RRULE:FREQ=YEARLY;INTERVAL=1;BYDAY=-1SU;BYMONTH=10
END:STANDARD
END:VTIMEZONE
BEGIN:VEVENT
UID:5a34636b141042ce94ddbd8ee2bf6cd9@blaustein-gruene.de
URL;VALUE=URI:https://blaustein-gruene.de/termine/balkonkraftwerk-mini-so
 laranlage-speicher-dynamischer-strompreis/
LOCATION:Lixpark-Gaststätte, Ehrensteiner Straße 45, Blaustein
SUMMARY:Balkonkraftwerk = Mini-Solaranlage. Speicher. Dynamischer Strompr
 eis
DESCRIPTION;ALTREP="data:text/html,%0A%3Cp%3EDer%20Ortsverband%20B%C3%BCn
 dnis%2090%2FDie%20Gr%C3%BCnen%20l%C3%A4dt%20zum%20Vortrag%20%C3%BCber%20B
 alkonsolaranlagen%20am%20Freitag%2C%2014.02.2025%2C%2019%3A30%20Uhr%20in%
 20die%20Lixpark-Gastst%C3%A4tte%20ein.%20Mit%20einer%20steckerfertigen%20
 Mini-Solaranlage%20%28oft%20auch%20als%20Balkonkraftwerk%20bezeichnet%29%
 20kann%20jeder%20an%20der%20Energiewende%20teilhaben%20und%20selbst%20pre
 iswerten%20Strom%20erzeugen.%3C%2Fp%3E%0A%0A%0A%0A%3Cp%3EIm%20Vortrag%20w
 erden%20verschieden%20Minisolaranlagen%20und%20deren%20Bauteile%20vorgest
 ellt%2C%20sowie%20die%20Funktionsweise%20mit%20und%20ohne%20Batteriespeic
 her.%20Die%20Teilnehmer%20erhalten%20aktuelle%20Infos%20zu%20den%20Preise
 n%2C%20Leistungen%2C%20Einsparm%C3%B6glichkeiten%2C%20gesetzlichen%20Erle
 ichterungen%2C%20sowie%20Hinweise%20zur%20F%C3%B6rderung.%20Es%20gibt%20a
 uch%20Tipps%20zur%20Anmeldung%20und%20Installation%20und%20wie%20eine%20b
 ereits%20bestehende%20PV-Anlage%20durch%20ein%20Balkonkraftwerk%20erg%C3%
 A4nzt%20werden%20kann.%20%3C%2Fp%3E%0A%0A%0A%0A%3Cp%3EDer%20Vortrag%20loh
 nt%20sich%20auch%2C%20wenn%20eine%20Solaranlage%20f%C3%BCr%20Sie%20nicht%
 20in%20Frage%20kommt%2C%20denn%202025%20werden%20die%20Themen%20Batteries
 peicher%20und%20dynamischer%20Strompreis%20finanziell%20noch%20interessan
 ter%20f%C3%BCr%20jeden%20Stromkunden.%3C%2Fp%3E%0A%0A%0A%0A%3Cp%3E%3Cem%3
 EReferent%3A%20Bruno%20Sing%2C%20Umwelt-%20und%20Solarberater%3C%2Fem%3E%
 3C%2Fp%3E%0A%0A%0A%0A%3Cp%3E%3C%2Fp%3E%0A":Der Ortsverband Bündnis 90/Di
 e Grünen lädt zum Vortrag über Balkonsolaranlagen am Freitag\, 14.02.2
 025\, 19:30 Uhr in die Lixpark-Gaststätte ein. Mit einer steckerfertigen
  Mini-Solaranlage (oft auch als Balkonkraftwerk bezeichnet) kann jeder an
  der Energiewende teilhaben und selbst preiswerten Strom erzeugen.\n\nIm 
 Vortrag werden verschieden Minisolaranlagen und deren Bauteile vorgestell
 t\, sowie die Funktionsweise mit und ohne Batteriespeicher. Die Teilnehme
 r erhalten aktuelle Infos zu den Preisen\, Leistungen\, Einsparmöglichke
 iten\, gesetzlichen Erleichterungen\, sowie Hinweise zur Förderung. Es g
 ibt auch Tipps zur Anmeldung und Installation und wie eine bereits besteh
 ende PV-Anlage durch ein Balkonkraftwerk ergänzt werden kann.\n\nDer Vor
 trag lohnt sich auch\, wenn eine Solaranlage für Sie nicht in Frage komm
 t\, denn 2025 werden die Themen Batteriespeicher und dynamischer Strompre
 is finanziell noch interessanter für jeden Stromkunden.\n\nReferent: Bru
 no Sing\, Umwelt- und Solarberater
CLASS:PUBLIC
DTSTART;TZID=Europe/Berlin:20250214T193000
DTEND;TZID=Europe/Berlin:20250214T210000
DTSTAMP:20260420T054521
END:VEVENT
END:VCALENDAR