BEGIN:VCALENDAR
VERSION:2.0
PRODID:blaustein-gruene.de
METHOD:PUBLISH
BEGIN:VTIMEZONE
TZID:Europe/Berlin
X-LIC-LOCATION:Europe/Berlin
BEGIN:DAYLIGHT
TZOFFSETFROM:+0100
TZOFFSETTO:+0200
TZNAME:CEST
DTSTART:19700329T020000
RRULE:FREQ=YEARLY;INTERVAL=1;BYDAY=-1SU;BYMONTH=3
END:DAYLIGHT
BEGIN:STANDARD
TZOFFSETFROM:+0200
TZOFFSETTO:+0100
TZNAME:CET
DTSTART:19701025T030000
RRULE:FREQ=YEARLY;INTERVAL=1;BYDAY=-1SU;BYMONTH=10
END:STANDARD
END:VTIMEZONE
BEGIN:VEVENT
UID:fe7a6c6dc5e4976f1e35fdad496ccb76@blaustein-gruene.de
URL;VALUE=URI:https://blaustein-gruene.de/termine/ortsbegehung-zum-thema-
 hochwasserschutz-mit-marcel-emmerich-mdb/
LOCATION:Marktplatz Blaustein, Marktplatz, Blaustein
SUMMARY:Ortsbegehung zum Thema Hochwasserschutz mit Marcel Emmerich MdB
DESCRIPTION;ALTREP="data:text/html,%0A%3Cp%3ERobert%20Jungwirth%20und%20M
 arcel%20Emmerich%20%28Bundestagsabgeordneter%20f%C3%BCr%20Ulm%2FAlb-Donau
 -Kreis%29%20laden%20am%20Freitag%2C%20den%2007.02.2025%20um%2015%20Uhr%20
 zu%20einer%20Ortsbegehung%20entlang%20der%20Blau%20zum%20Thema%20Hochwass
 erschutz%20ein.%20Treffpunkt%20f%C3%BCr%20die%20ca.%20einst%C3%BCndige%20
 Veranstaltung%20ist%20unser%20Infostand%20auf%20dem%20Wochenmarkt.%3C%2Fp
 %3E%0A":Robert Jungwirth und Marcel Emmerich (Bundestagsabgeordneter für
  Ulm/Alb-Donau-Kreis) laden am Freitag\, den 07.02.2025 um 15 Uhr zu eine
 r Ortsbegehung entlang der Blau zum Thema Hochwasserschutz ein. Treffpunk
 t für die ca. einstündige Veranstaltung ist unser Infostand auf dem Woc
 henmarkt.
CLASS:PUBLIC
DTSTART;TZID=Europe/Berlin:20250207T150000
DTEND;TZID=Europe/Berlin:20250207T160000
DTSTAMP:20260420T060330
END:VEVENT
END:VCALENDAR